BEGIN:VCALENDAR
VERSION:2.0
PRODID:-//Angelsportverein  Emsdetten e. V. - ECPv6.15.20//NONSGML v1.0//EN
CALSCALE:GREGORIAN
METHOD:PUBLISH
X-WR-CALNAME:Angelsportverein  Emsdetten e. V.
X-ORIGINAL-URL:https://www.asv-emsdetten.de
X-WR-CALDESC:Veranstaltungen für Angelsportverein  Emsdetten e. V.
REFRESH-INTERVAL;VALUE=DURATION:PT1H
X-Robots-Tag:noindex
X-PUBLISHED-TTL:PT1H
BEGIN:VTIMEZONE
TZID:UTC
BEGIN:STANDARD
TZOFFSETFROM:+0000
TZOFFSETTO:+0000
TZNAME:UTC
DTSTART:20260101T000000
END:STANDARD
END:VTIMEZONE
BEGIN:VEVENT
DTSTART;TZID=UTC:20270122T180000
DTEND;TZID=UTC:20270122T230000
DTSTAMP:20260421T101814
CREATED:20220203T125330Z
LAST-MODIFIED:20251218T200723Z
UID:26051-1800640800-1800658800@www.asv-emsdetten.de
SUMMARY:Seniorengruppe\, Grünkohl essen
DESCRIPTION:Der Eigenanteil für die Teilnahme an dieser Veranstaltung beträgt 10\,- € pro Person. \nInfos und Anmeldung erfolgt im Vereinsheim.
URL:https://www.asv-emsdetten.de/event/seniorengruppe-gruenkohl-essen/
LOCATION:Vereinsheim Angelsportverein Emsdetten e.V.\, Veltrup 22\, Emsdetten\, 48282\, Deutschland
CATEGORIES:Senioren
END:VEVENT
END:VCALENDAR