BEGIN:VCALENDAR
VERSION:2.0
PRODID:-//Angelsportverein  Emsdetten e. V. - ECPv6.15.20//NONSGML v1.0//EN
CALSCALE:GREGORIAN
METHOD:PUBLISH
X-ORIGINAL-URL:https://www.asv-emsdetten.de
X-WR-CALDESC:Veranstaltungen für Angelsportverein  Emsdetten e. V.
REFRESH-INTERVAL;VALUE=DURATION:PT1H
X-Robots-Tag:noindex
X-PUBLISHED-TTL:PT1H
BEGIN:VTIMEZONE
TZID:UTC
BEGIN:STANDARD
TZOFFSETFROM:+0000
TZOFFSETTO:+0000
TZNAME:UTC
DTSTART:20250101T000000
END:STANDARD
END:VTIMEZONE
BEGIN:VEVENT
DTSTART;TZID=UTC:20261010T074500
DTEND;TZID=UTC:20261010T120000
DTSTAMP:20260421T051937
CREATED:20220923T104531Z
LAST-MODIFIED:20251125T134412Z
UID:26173-1791618300-1791633600@www.asv-emsdetten.de
SUMMARY:Arbeitseinsatz
DESCRIPTION:07:45 Uhr Treffen am Vereinsheim\, Beginn 08:00 Uhr \nBitte achtet auf dem Wetter entsprechend angepasste Arbeitskleidung. Eure Haustiere dürfen gerne zu Hause bleiben.
URL:https://www.asv-emsdetten.de/event/arbeitseinsatz-5/
LOCATION:Vereinsheim Angelsportverein Emsdetten e.V.\, Veltrup 22\, Emsdetten\, 48282\, Deutschland
CATEGORIES:Allgemein
END:VEVENT
BEGIN:VEVENT
DTSTART;TZID=UTC:20261011T080000
DTEND;TZID=UTC:20261011T130000
DTSTAMP:20260421T051937
CREATED:20220126T180540Z
LAST-MODIFIED:20251219T114323Z
UID:26019-1791705600-1791723600@www.asv-emsdetten.de
SUMMARY:Jugendgruppe\, 7. Gemeinschaftsangeln – Spinnangeln
DESCRIPTION:Treffpunkt und Uhrzeit folgen
URL:https://www.asv-emsdetten.de/event/jugendgruppe-7-gemeinschaftsangeln-see-hermeler-30-09-01-10/
LOCATION:Vereinsheim Angelsportverein Emsdetten e.V.\, Veltrup 22\, Emsdetten\, 48282\, Deutschland
CATEGORIES:Jugend
END:VEVENT
BEGIN:VEVENT
DTSTART;TZID=UTC:20261024T074500
DTEND;TZID=UTC:20261024T120000
DTSTAMP:20260421T051937
CREATED:20210608T114722Z
LAST-MODIFIED:20251125T134428Z
UID:24864-1792827900-1792843200@www.asv-emsdetten.de
SUMMARY:Arbeitseinsatz
DESCRIPTION:07:45 Uhr Treffen am Vereinsheim\, Beginn 08:00 Uhr \nBitte achtet auf dem Wetter entsprechend angepasste Arbeitskleidung. Eure Haustiere dürfen gerne zu Hause bleiben.
URL:https://www.asv-emsdetten.de/event/arbeitseinsatz-4/
LOCATION:Vereinsheim Angelsportverein Emsdetten e.V.\, Veltrup 22\, Emsdetten\, 48282\, Deutschland
CATEGORIES:Allgemein
END:VEVENT
END:VCALENDAR