BEGIN:VCALENDAR
VERSION:2.0
PRODID:-//Angelsportverein  Emsdetten e. V. - ECPv6.15.20//NONSGML v1.0//EN
CALSCALE:GREGORIAN
METHOD:PUBLISH
X-ORIGINAL-URL:https://www.asv-emsdetten.de
X-WR-CALDESC:Veranstaltungen für Angelsportverein  Emsdetten e. V.
REFRESH-INTERVAL;VALUE=DURATION:PT1H
X-Robots-Tag:noindex
X-PUBLISHED-TTL:PT1H
BEGIN:VTIMEZONE
TZID:UTC
BEGIN:STANDARD
TZOFFSETFROM:+0000
TZOFFSETTO:+0000
TZNAME:UTC
DTSTART:20250101T000000
END:STANDARD
END:VTIMEZONE
BEGIN:VEVENT
DTSTART;TZID=UTC:20260201T100000
DTEND;TZID=UTC:20260201T123000
DTSTAMP:20260420T135420
CREATED:20210608T114754Z
LAST-MODIFIED:20251219T130659Z
UID:24866-1769940000-1769949000@www.asv-emsdetten.de
SUMMARY:Fischereierlaubnisscheinausgabe
DESCRIPTION:10:00 Uhr – 12:30 Uhr im Vereinsheim
URL:https://www.asv-emsdetten.de/event/jugendgruppe-weihnachtsfeier/
LOCATION:Vereinsheim Angelsportverein Emsdetten e.V.\, Veltrup 22\, Emsdetten\, 48282\, Deutschland
CATEGORIES:Allgemein
END:VEVENT
BEGIN:VEVENT
DTSTART;TZID=UTC:20260221T143000
DTEND;TZID=UTC:20260221T173000
DTSTAMP:20260420T135420
CREATED:20241204T070458Z
LAST-MODIFIED:20251218T203036Z
UID:26029-1771684200-1771695000@www.asv-emsdetten.de
SUMMARY:Mitgliederversammlung 2026
DESCRIPTION:Beginn 15:00 Uhr. Einlass ab 14:30 Uhr
URL:https://www.asv-emsdetten.de/event/mitgliederversammlung-2022/
LOCATION:Hotel Restaurant Düsterbeck\, Borghorster Str. 2\, Emsdetten\, 48282
CATEGORIES:Allgemein
END:VEVENT
END:VCALENDAR