BEGIN:VCALENDAR
VERSION:2.0
PRODID:-//Angelsportverein  Emsdetten e. V. - ECPv6.15.20//NONSGML v1.0//EN
CALSCALE:GREGORIAN
METHOD:PUBLISH
X-ORIGINAL-URL:https://www.asv-emsdetten.de
X-WR-CALDESC:Veranstaltungen für Angelsportverein  Emsdetten e. V.
REFRESH-INTERVAL;VALUE=DURATION:PT1H
X-Robots-Tag:noindex
X-PUBLISHED-TTL:PT1H
BEGIN:VTIMEZONE
TZID:UTC
BEGIN:STANDARD
TZOFFSETFROM:+0000
TZOFFSETTO:+0000
TZNAME:UTC
DTSTART:20250101T000000
END:STANDARD
END:VTIMEZONE
BEGIN:VEVENT
DTSTART;TZID=UTC:20260111T100000
DTEND;TZID=UTC:20260111T123000
DTSTAMP:20260420T152453
CREATED:20210608T114929Z
LAST-MODIFIED:20251219T130557Z
UID:24874-1768125600-1768134600@www.asv-emsdetten.de
SUMMARY:Fischereierlaubnisscheinausgabe
DESCRIPTION:10:00 Uhr – 12:30 Uhr im Vereinsheim
URL:https://www.asv-emsdetten.de/event/fischereierlaubnisscheinausgabe-3/
LOCATION:Vereinsheim Angelsportverein Emsdetten e.V.\, Veltrup 22\, Emsdetten\, 48282\, Deutschland
CATEGORIES:Allgemein
END:VEVENT
BEGIN:VEVENT
DTSTART;TZID=UTC:20260118T100000
DTEND;TZID=UTC:20260118T123000
DTSTAMP:20260420T152453
CREATED:20210608T114917Z
LAST-MODIFIED:20251219T130613Z
UID:24872-1768730400-1768739400@www.asv-emsdetten.de
SUMMARY:Fischereierlaubnisscheinausgabe
DESCRIPTION:10:00 Uhr – 12:30 Uhr im Vereinsheim
URL:https://www.asv-emsdetten.de/event/fischereierlaubnisscheinausgabe-2/
LOCATION:Vereinsheim Angelsportverein Emsdetten e.V.\, Veltrup 22\, Emsdetten\, 48282\, Deutschland
CATEGORIES:Allgemein
END:VEVENT
BEGIN:VEVENT
DTSTART;TZID=UTC:20260125T100000
DTEND;TZID=UTC:20260125T123000
DTSTAMP:20260420T152453
CREATED:20210608T114905Z
LAST-MODIFIED:20251219T130627Z
UID:24870-1769335200-1769344200@www.asv-emsdetten.de
SUMMARY:Fischereierlaubnisscheinausgabe
DESCRIPTION:10:00 Uhr – 12:30 Uhr im Vereinsheim
URL:https://www.asv-emsdetten.de/event/fischereierlaubnisscheinausgabe/
LOCATION:Vereinsheim Angelsportverein Emsdetten e.V.\, Veltrup 22\, Emsdetten\, 48282\, Deutschland
CATEGORIES:Allgemein
END:VEVENT
END:VCALENDAR