BEGIN:VCALENDAR
VERSION:2.0
PRODID:-//Angelsportverein  Emsdetten e. V. - ECPv6.15.20//NONSGML v1.0//EN
CALSCALE:GREGORIAN
METHOD:PUBLISH
X-WR-CALNAME:Angelsportverein  Emsdetten e. V.
X-ORIGINAL-URL:https://www.asv-emsdetten.de
X-WR-CALDESC:Veranstaltungen für Angelsportverein  Emsdetten e. V.
REFRESH-INTERVAL;VALUE=DURATION:PT1H
X-Robots-Tag:noindex
X-PUBLISHED-TTL:PT1H
BEGIN:VTIMEZONE
TZID:UTC
BEGIN:STANDARD
TZOFFSETFROM:+0000
TZOFFSETTO:+0000
TZNAME:UTC
DTSTART:20250101T000000
END:STANDARD
END:VTIMEZONE
BEGIN:VEVENT
DTSTART;TZID=UTC:20260420T000100
DTEND;TZID=UTC:20260426T063000
DTSTAMP:20260420T070027
CREATED:20211122T062018Z
LAST-MODIFIED:20251226T115421Z
UID:25828-1776643260-1777185000@www.asv-emsdetten.de
SUMMARY:See Hermeler vom 20.04. - 26.04. zum Angeln gesperrt
DESCRIPTION:Damit die neu eingesetzten Fische ausreichend Zeit zur Eingewöhnung haben\, ist das Angeln vom 20.04.2026 bis zum 26.04.2026 um 06:30 Uhr nicht gestattet. \nIn diesem Zeitraum finden verstärkte Fischereikontrollen statt.
URL:https://www.asv-emsdetten.de/event/see-hermeler-gesprerrt/
CATEGORIES:Allgemein
END:VEVENT
END:VCALENDAR