BEGIN:VCALENDAR
VERSION:2.0
PRODID:-//Angelsportverein  Emsdetten e. V. - ECPv6.15.20//NONSGML v1.0//EN
CALSCALE:GREGORIAN
METHOD:PUBLISH
X-WR-CALNAME:Angelsportverein  Emsdetten e. V.
X-ORIGINAL-URL:https://www.asv-emsdetten.de
X-WR-CALDESC:Veranstaltungen für Angelsportverein  Emsdetten e. V.
REFRESH-INTERVAL;VALUE=DURATION:PT1H
X-Robots-Tag:noindex
X-PUBLISHED-TTL:PT1H
BEGIN:VTIMEZONE
TZID:UTC
BEGIN:STANDARD
TZOFFSETFROM:+0000
TZOFFSETTO:+0000
TZNAME:UTC
DTSTART:20250101T000000
END:STANDARD
END:VTIMEZONE
BEGIN:VEVENT
DTSTART;TZID=UTC:20261212T160000
DTEND;TZID=UTC:20261212T220000
DTSTAMP:20260421T101847
CREATED:20220126T180704Z
LAST-MODIFIED:20251219T114436Z
UID:26021-1797091200-1797112800@www.asv-emsdetten.de
SUMMARY:Jugendgruppe\, 8. Weihnachtsfeier
DESCRIPTION:Treffpunkt und Uhrzeit folgen.
URL:https://www.asv-emsdetten.de/event/jugendgruppe-8-weihnachtsfeier-am-vereinsheim/
LOCATION:Vereinsheim Angelsportverein Emsdetten e.V.\, Veltrup 22\, Emsdetten\, 48282\, Deutschland
CATEGORIES:Jugend
END:VEVENT
END:VCALENDAR