BEGIN:VCALENDAR
VERSION:2.0
PRODID:-//Angelsportverein  Emsdetten e. V. - ECPv6.15.20//NONSGML v1.0//EN
CALSCALE:GREGORIAN
METHOD:PUBLISH
X-ORIGINAL-URL:https://www.asv-emsdetten.de
X-WR-CALDESC:Veranstaltungen für Angelsportverein  Emsdetten e. V.
REFRESH-INTERVAL;VALUE=DURATION:PT1H
X-Robots-Tag:noindex
X-PUBLISHED-TTL:PT1H
BEGIN:VTIMEZONE
TZID:UTC
BEGIN:STANDARD
TZOFFSETFROM:+0000
TZOFFSETTO:+0000
TZNAME:UTC
DTSTART:20250101T000000
END:STANDARD
END:VTIMEZONE
BEGIN:VTIMEZONE
TZID:Europe/Berlin
BEGIN:DAYLIGHT
TZOFFSETFROM:+0100
TZOFFSETTO:+0200
TZNAME:CEST
DTSTART:20250330T010000
END:DAYLIGHT
BEGIN:STANDARD
TZOFFSETFROM:+0200
TZOFFSETTO:+0100
TZNAME:CET
DTSTART:20251026T010000
END:STANDARD
BEGIN:DAYLIGHT
TZOFFSETFROM:+0100
TZOFFSETTO:+0200
TZNAME:CEST
DTSTART:20260329T010000
END:DAYLIGHT
BEGIN:STANDARD
TZOFFSETFROM:+0200
TZOFFSETTO:+0100
TZNAME:CET
DTSTART:20261025T010000
END:STANDARD
BEGIN:DAYLIGHT
TZOFFSETFROM:+0100
TZOFFSETTO:+0200
TZNAME:CEST
DTSTART:20270328T010000
END:DAYLIGHT
BEGIN:STANDARD
TZOFFSETFROM:+0200
TZOFFSETTO:+0100
TZNAME:CET
DTSTART:20271031T010000
END:STANDARD
END:VTIMEZONE
BEGIN:VEVENT
DTSTART;TZID=UTC:20260926T120000
DTEND;TZID=UTC:20260927T100000
DTSTAMP:20260421T051947
CREATED:20231022T052337Z
LAST-MODIFIED:20251127T064859Z
UID:25830-1790424000-1790503200@www.asv-emsdetten.de
SUMMARY:Königsangeln
DESCRIPTION:Geangelt wird vom 26.09.2026 ab 12:00 Uhr bis zum 27.09.2026 um 10:00 Uhr an allen Gewässern des ASV Emsdetten
URL:https://www.asv-emsdetten.de/event/koenigsangeln/
CATEGORIES:Allgemein
END:VEVENT
BEGIN:VEVENT
DTSTART;TZID=Europe/Berlin:20260927T103000
DTEND;TZID=Europe/Berlin:20260927T113000
DTSTAMP:20260421T051947
CREATED:20211122T062615Z
LAST-MODIFIED:20251127T064928Z
UID:25832-1790505000-1790508600@www.asv-emsdetten.de
SUMMARY:Königsangeln\, gemeinsames Wiegen und Grillen
DESCRIPTION:Königsangeln\, gemeinsames Wiegen und Grillen
URL:https://www.asv-emsdetten.de/event/koenigsangeln-gemeinsames-wiegen-und-grillen-2/
LOCATION:Vereinsheim Angelsportverein Emsdetten e.V.\, Veltrup 22\, Emsdetten\, 48282\, Deutschland
CATEGORIES:Allgemein
END:VEVENT
END:VCALENDAR