BEGIN:VCALENDAR
VERSION:2.0
PRODID:-//Angelsportverein  Emsdetten e. V. - ECPv6.15.20//NONSGML v1.0//EN
CALSCALE:GREGORIAN
METHOD:PUBLISH
X-WR-CALNAME:Angelsportverein  Emsdetten e. V.
X-ORIGINAL-URL:https://www.asv-emsdetten.de
X-WR-CALDESC:Veranstaltungen für Angelsportverein  Emsdetten e. V.
REFRESH-INTERVAL;VALUE=DURATION:PT1H
X-Robots-Tag:noindex
X-PUBLISHED-TTL:PT1H
BEGIN:VTIMEZONE
TZID:UTC
BEGIN:STANDARD
TZOFFSETFROM:+0000
TZOFFSETTO:+0000
TZNAME:UTC
DTSTART:20250101T000000
END:STANDARD
END:VTIMEZONE
BEGIN:VEVENT
DTSTART;TZID=UTC:20260911T120000
DTEND;TZID=UTC:20260913T100000
DTSTAMP:20260421T051630
CREATED:20260102T111643Z
LAST-MODIFIED:20260102T112006Z
UID:27441-1789128000-1789293600@www.asv-emsdetten.de
SUMMARY:See Hermeler vom 11.09. - 13.09.2026 zum Angeln gesperrt
DESCRIPTION:Aufgrund des Gemeinschaftsangelns unserer Jugendgruppe mit der Jugendgruppe Neuenkirchen ist der See Hermeler im Zeitraum vom 11.09. bis 13.09. um 10:00 Uhr für die Allgemeinheit zum Angeln gesperrt.
URL:https://www.asv-emsdetten.de/event/see-hermeler-vom-11-09-13-09-2026-zum-angeln-gesperrt/
LOCATION:Saerbecker See / Kröger See\, Zum Badesee\, Saerbeck\, 48369\, Deutschland
CATEGORIES:Allgemein,Jugend
END:VEVENT
BEGIN:VEVENT
DTSTART;TZID=UTC:20260911T160000
DTEND;TZID=UTC:20260913T100000
DTSTAMP:20260421T051630
CREATED:20251219T114111Z
LAST-MODIFIED:20260102T110511Z
UID:27401-1789142400-1789293600@www.asv-emsdetten.de
SUMMARY:Jugendgruppe\, 6. Gemeinschaftsangeln Jugendlager am Hermeler See mit dem Angelverein Neptun Neuenkirchen 11.09. - 13.09.
DESCRIPTION:Treffpunkt 16:00 Uhr am Vereinsheim.
URL:https://www.asv-emsdetten.de/event/jugendgruppe-6-gemeinschaftsangeln-details-folgen/
LOCATION:Vereinsheim Angelsportverein Emsdetten e.V.\, Veltrup 22\, Emsdetten\, 48282\, Deutschland
CATEGORIES:Jugend
END:VEVENT
BEGIN:VEVENT
DTSTART;TZID=UTC:20260913T070000
DTEND;TZID=UTC:20260913T140000
DTSTAMP:20260421T051630
CREATED:20251218T174517Z
LAST-MODIFIED:20251218T200603Z
UID:27379-1789282800-1789308000@www.asv-emsdetten.de
SUMMARY:Seniorengruppe\, Forellenangeln
DESCRIPTION:Der Eigenanteil für die Teilnahme an dieser Veranstaltung beträgt 10\,- € pro Person. \nInfos und Anmeldung erfolgt im Vereinsheim.
URL:https://www.asv-emsdetten.de/event/seniorengruppe-forellenangeln/
CATEGORIES:Senioren
END:VEVENT
END:VCALENDAR