BEGIN:VCALENDAR
VERSION:2.0
PRODID:-//Angelsportverein  Emsdetten e. V. - ECPv6.15.20//NONSGML v1.0//EN
CALSCALE:GREGORIAN
METHOD:PUBLISH
X-WR-CALNAME:Angelsportverein  Emsdetten e. V.
X-ORIGINAL-URL:https://www.asv-emsdetten.de
X-WR-CALDESC:Veranstaltungen für Angelsportverein  Emsdetten e. V.
REFRESH-INTERVAL;VALUE=DURATION:PT1H
X-Robots-Tag:noindex
X-PUBLISHED-TTL:PT1H
BEGIN:VTIMEZONE
TZID:UTC
BEGIN:STANDARD
TZOFFSETFROM:+0000
TZOFFSETTO:+0000
TZNAME:UTC
DTSTART:20250101T000000
END:STANDARD
END:VTIMEZONE
BEGIN:VEVENT
DTSTART;TZID=UTC:20260717T120000
DTEND;TZID=UTC:20260718T100000
DTSTAMP:20260420T230612
CREATED:20251226T124816Z
LAST-MODIFIED:20260102T112030Z
UID:27426-1784289600-1784368800@www.asv-emsdetten.de
SUMMARY:See Meier am vom 17.07. - 18.07.2026 zum Angeln gesperrt
DESCRIPTION:Aufgrund des Gemeinschaftsangelns unserer Jugendgruppe ist der See Meier im Zeitraum vom 17.07. bis 18.07. für die Allgemeinheit zum Angeln gesperrt.
URL:https://www.asv-emsdetten.de/event/see-meier-am-vom-17-07-18-07-2026-zum-angeln-gesperrt/
LOCATION:See Meier\, Lengericher Damm / Hanfteichweg\, Saerbeck\, 48369
CATEGORIES:Allgemein,Jugend
END:VEVENT
BEGIN:VEVENT
DTSTART;TZID=UTC:20260717T160000
DTEND;TZID=UTC:20260718T100000
DTSTAMP:20260420T230612
CREATED:20220126T175650Z
LAST-MODIFIED:20251219T113838Z
UID:26010-1784304000-1784368800@www.asv-emsdetten.de
SUMMARY:Jugendgruppe\, 5. Gemeinschaftsangeln am See Meier
DESCRIPTION:Treffen um 16:00 Uhr am See Meier. \nBitte beachtet\, dass aufgrund der Größe des Gewässers nur eine begrenzte Anzahl an Anglern teilnehmen kann. Genauere Informationen erhaltet ihr über die Jugend-WhatsApp-Gruppe.
URL:https://www.asv-emsdetten.de/event/jugendgruppe-3-gemeinschaftsangeln-see-meier-10-06-11-06/
LOCATION:See Meier\, Lengericher Damm / Hanfteichweg\, Saerbeck\, 48369
CATEGORIES:Jugend
END:VEVENT
END:VCALENDAR