BEGIN:VCALENDAR
VERSION:2.0
PRODID:-//Angelsportverein  Emsdetten e. V. - ECPv6.15.20//NONSGML v1.0//EN
CALSCALE:GREGORIAN
METHOD:PUBLISH
X-WR-CALNAME:Angelsportverein  Emsdetten e. V.
X-ORIGINAL-URL:https://www.asv-emsdetten.de
X-WR-CALDESC:Veranstaltungen für Angelsportverein  Emsdetten e. V.
REFRESH-INTERVAL;VALUE=DURATION:PT1H
X-Robots-Tag:noindex
X-PUBLISHED-TTL:PT1H
BEGIN:VTIMEZONE
TZID:UTC
BEGIN:STANDARD
TZOFFSETFROM:+0000
TZOFFSETTO:+0000
TZNAME:UTC
DTSTART:20250101T000000
END:STANDARD
END:VTIMEZONE
BEGIN:VEVENT
DTSTART;TZID=UTC:20260619T120000
DTEND;TZID=UTC:20260620T100000
DTSTAMP:20260420T151811
CREATED:20260102T111119Z
LAST-MODIFIED:20260102T112015Z
UID:27439-1781870400-1781949600@www.asv-emsdetten.de
SUMMARY:Saerbecker See / Kröger See vom 19.06. - 20.06.2026 zum Angeln gesperrt
DESCRIPTION:Aufgrund des Gemeinschaftsangelns unserer Jugendgruppe ist der Saerbecker See / Kröger See im Zeitraum vom 19.06. bis 20.06. für die Allgemeinheit zum Angeln gesperrt.
URL:https://www.asv-emsdetten.de/event/saerbecker-see-kroeger-see-vom-19-06-20-06-2026-zum-angeln-gesperrt/
LOCATION:Saerbecker See / Kröger See\, Zum Badesee\, Saerbeck\, 48369\, Deutschland
CATEGORIES:Allgemein,Jugend
END:VEVENT
BEGIN:VEVENT
DTSTART;TZID=UTC:20260619T160000
DTEND;TZID=UTC:20260620T100000
DTSTAMP:20260420T151811
CREATED:20220126T175926Z
LAST-MODIFIED:20260102T111221Z
UID:26012-1781884800-1781949600@www.asv-emsdetten.de
SUMMARY:Jugendgruppe\, 4. Gemeinschaftsangeln -  Saerbecker Badesee / Kröger See 19.06. - 20.06.
DESCRIPTION:Treffpunkt 16:00 Uhr am Vereinsheim.
URL:https://www.asv-emsdetten.de/event/jugendgruppe-4-gemeinschaftsangeln-jugendlager-mit-dem-angelverein-greven-und-dem-angelverein-neptun-in-neuenkirchen-12-08-14-08/
LOCATION:Vereinsheim Angelsportverein Emsdetten e.V.\, Veltrup 22\, Emsdetten\, 48282\, Deutschland
CATEGORIES:Jugend
END:VEVENT
END:VCALENDAR