BEGIN:VCALENDAR
VERSION:2.0
PRODID:-//Angelsportverein  Emsdetten e. V. - ECPv6.15.20//NONSGML v1.0//EN
CALSCALE:GREGORIAN
METHOD:PUBLISH
X-ORIGINAL-URL:https://www.asv-emsdetten.de
X-WR-CALDESC:Veranstaltungen für Angelsportverein  Emsdetten e. V.
REFRESH-INTERVAL;VALUE=DURATION:PT1H
X-Robots-Tag:noindex
X-PUBLISHED-TTL:PT1H
BEGIN:VTIMEZONE
TZID:UTC
BEGIN:STANDARD
TZOFFSETFROM:+0000
TZOFFSETTO:+0000
TZNAME:UTC
DTSTART:20250101T000000
END:STANDARD
END:VTIMEZONE
BEGIN:VEVENT
DTSTART;TZID=UTC:20260612T140000
DTEND;TZID=UTC:20260612T210000
DTSTAMP:20260420T152338
CREATED:20210630T145514Z
LAST-MODIFIED:20251218T200359Z
UID:24997-1781272800-1781298000@www.asv-emsdetten.de
SUMMARY:Seniorengruppe - Fahrradtour mit Kaffee\, Kuchen und anschließendem Grillen
DESCRIPTION:Der Eigenanteil für die Teilnahme an dieser Veranstaltung beträgt 10\,- € pro Person. \nTreffpunkt ist der Parkplatz von ATU in Emsdetten um 14:00 Uhr. \nWeitere Infos und Anmeldung im Vereinsheim.
URL:https://www.asv-emsdetten.de/event/seniorengruppe-fahrradtour-mit-kaffee-und-abendessen/
LOCATION:Vereinsheim Angelsportverein Emsdetten e.V.\, Veltrup 22\, Emsdetten\, 48282\, Deutschland
CATEGORIES:Senioren
END:VEVENT
END:VCALENDAR