BEGIN:VCALENDAR
VERSION:2.0
PRODID:-//Angelsportverein  Emsdetten e. V. - ECPv6.15.20//NONSGML v1.0//EN
CALSCALE:GREGORIAN
METHOD:PUBLISH
X-WR-CALNAME:Angelsportverein  Emsdetten e. V.
X-ORIGINAL-URL:https://www.asv-emsdetten.de
X-WR-CALDESC:Veranstaltungen für Angelsportverein  Emsdetten e. V.
REFRESH-INTERVAL;VALUE=DURATION:PT1H
X-Robots-Tag:noindex
X-PUBLISHED-TTL:PT1H
BEGIN:VTIMEZONE
TZID:UTC
BEGIN:STANDARD
TZOFFSETFROM:+0000
TZOFFSETTO:+0000
TZNAME:UTC
DTSTART:20250101T000000
END:STANDARD
END:VTIMEZONE
BEGIN:VEVENT
DTSTART;TZID=UTC:20260529T120000
DTEND;TZID=UTC:20260530T100000
DTSTAMP:20260420T134840
CREATED:20251226T125211Z
LAST-MODIFIED:20260102T112022Z
UID:27428-1780056000-1780135200@www.asv-emsdetten.de
SUMMARY:Saerbecker See / Kröger See vom 29.05. - 30.05.2026 zum Angeln gesperrt
DESCRIPTION:Aufgrund des Gemeinschaftsangelns unserer Jugendgruppe ist der Saerbecker See / Kröger See im Zeitraum vom 29.05. bis 30.05. für die Allgemeinheit zum Angeln gesperrt.
URL:https://www.asv-emsdetten.de/event/saerbecker-see-kroeger-see-vom-29-05-30-05-2026-zum-angeln-gesperrt/
LOCATION:Saerbecker See / Kröger See\, Zum Badesee\, Saerbeck\, 48369\, Deutschland
CATEGORIES:Allgemein,Jugend
END:VEVENT
BEGIN:VEVENT
DTSTART;TZID=UTC:20260529T160000
DTEND;TZID=UTC:20260530T100000
DTSTAMP:20260420T134840
CREATED:20220126T180116Z
LAST-MODIFIED:20251219T112345Z
UID:26014-1780070400-1780135200@www.asv-emsdetten.de
SUMMARY:Jugendgruppe\, 3. Gemeinschaftsangeln – Saerbecker See / Kröger See 29.05. – 30.05.
DESCRIPTION:Treffen um 16:00 Uhr am Saerbecker See.
URL:https://www.asv-emsdetten.de/event/jugendgruppe-5-gemeinschaftsangeln-saerbecker-see-kroeger-see-26-08-27-08/
LOCATION:Saerbecker See / Kröger See\, Zum Badesee\, Saerbeck\, 48369\, Deutschland
CATEGORIES:Jugend
END:VEVENT
END:VCALENDAR