BEGIN:VCALENDAR
VERSION:2.0
PRODID:-//Angelsportverein  Emsdetten e. V. - ECPv6.15.20//NONSGML v1.0//EN
CALSCALE:GREGORIAN
METHOD:PUBLISH
X-WR-CALNAME:Angelsportverein  Emsdetten e. V.
X-ORIGINAL-URL:https://www.asv-emsdetten.de
X-WR-CALDESC:Veranstaltungen für Angelsportverein  Emsdetten e. V.
REFRESH-INTERVAL;VALUE=DURATION:PT1H
X-Robots-Tag:noindex
X-PUBLISHED-TTL:PT1H
BEGIN:VTIMEZONE
TZID:UTC
BEGIN:STANDARD
TZOFFSETFROM:+0000
TZOFFSETTO:+0000
TZNAME:UTC
DTSTART:20250101T000000
END:STANDARD
END:VTIMEZONE
BEGIN:VEVENT
DTSTART;TZID=UTC:20260509T070000
DTEND;TZID=UTC:20260509T120000
DTSTAMP:20260420T134911
CREATED:20220126T175403Z
LAST-MODIFIED:20251219T112200Z
UID:26008-1778310000-1778328000@www.asv-emsdetten.de
SUMMARY:Jugendgruppe\, 2. Gemeinschaftsangeln - Spinnangeln See Hermeler
DESCRIPTION:Treffen um 07:00 Uhr am Vereinsheim.
URL:https://www.asv-emsdetten.de/event/jugendgruppe-2-gemeinschaftsangeln-saerbecker-see-kroeger-see-13-05-14-05/
LOCATION:Vereinsheim Angelsportverein Emsdetten e.V.\, Veltrup 22\, Emsdetten\, 48282\, Deutschland
CATEGORIES:Jugend
END:VEVENT
END:VCALENDAR