BEGIN:VCALENDAR
VERSION:2.0
PRODID:-//Angelsportverein  Emsdetten e. V. - ECPv6.15.20//NONSGML v1.0//EN
CALSCALE:GREGORIAN
METHOD:PUBLISH
X-ORIGINAL-URL:https://www.asv-emsdetten.de
X-WR-CALDESC:Veranstaltungen für Angelsportverein  Emsdetten e. V.
REFRESH-INTERVAL;VALUE=DURATION:PT1H
X-Robots-Tag:noindex
X-PUBLISHED-TTL:PT1H
BEGIN:VTIMEZONE
TZID:UTC
BEGIN:STANDARD
TZOFFSETFROM:+0000
TZOFFSETTO:+0000
TZNAME:UTC
DTSTART:20250101T000000
END:STANDARD
END:VTIMEZONE
BEGIN:VEVENT
DTSTART;TZID=UTC:20260412T060000
DTEND;TZID=UTC:20260412T060000
DTSTAMP:20260420T115739
CREATED:20210608T105153Z
LAST-MODIFIED:20251218T175217Z
UID:24827-1775973600-1775973600@www.asv-emsdetten.de
SUMMARY:Hegegruppe\, 1. Durchgang\, See Hermeler
DESCRIPTION:06:00 Uhr an der zweiten Spitze.
URL:https://www.asv-emsdetten.de/event/hegegruppe-4-durchgang-see-hermeler/
LOCATION:Vereinsheim Angelsportverein Emsdetten e.V.\, Veltrup 22\, Emsdetten\, 48282\, Deutschland
CATEGORIES:Hegegruppe
END:VEVENT
END:VCALENDAR