BEGIN:VCALENDAR
VERSION:2.0
PRODID:-//Angelsportverein  Emsdetten e. V. - ECPv6.15.20//NONSGML v1.0//EN
CALSCALE:GREGORIAN
METHOD:PUBLISH
X-ORIGINAL-URL:https://www.asv-emsdetten.de
X-WR-CALDESC:Veranstaltungen für Angelsportverein  Emsdetten e. V.
REFRESH-INTERVAL;VALUE=DURATION:PT1H
X-Robots-Tag:noindex
X-PUBLISHED-TTL:PT1H
BEGIN:VTIMEZONE
TZID:UTC
BEGIN:STANDARD
TZOFFSETFROM:+0000
TZOFFSETTO:+0000
TZNAME:UTC
DTSTART:20250101T000000
END:STANDARD
END:VTIMEZONE
BEGIN:VEVENT
DTSTART;TZID=UTC:20260329T070000
DTEND;TZID=UTC:20260329T140000
DTSTAMP:20260420T133950
CREATED:20220203T125235Z
LAST-MODIFIED:20251218T200527Z
UID:26049-1774767600-1774792800@www.asv-emsdetten.de
SUMMARY:Seniorengruppe\, Forellenangeln
DESCRIPTION:Der Eigenanteil für die Teilnahme an dieser Veranstaltung beträgt 10\,- € pro Person. \nInfos und Anmeldung erfolgt im Vereinsheim.
URL:https://www.asv-emsdetten.de/event/seniorengruppe-forellenangeln-2/
CATEGORIES:Senioren
END:VEVENT
END:VCALENDAR