BEGIN:VCALENDAR
VERSION:2.0
PRODID:-//Angelsportverein  Emsdetten e. V. - ECPv6.15.20//NONSGML v1.0//EN
CALSCALE:GREGORIAN
METHOD:PUBLISH
X-ORIGINAL-URL:https://www.asv-emsdetten.de
X-WR-CALDESC:Veranstaltungen für Angelsportverein  Emsdetten e. V.
REFRESH-INTERVAL;VALUE=DURATION:PT1H
X-Robots-Tag:noindex
X-PUBLISHED-TTL:PT1H
BEGIN:VTIMEZONE
TZID:UTC
BEGIN:STANDARD
TZOFFSETFROM:+0000
TZOFFSETTO:+0000
TZNAME:UTC
DTSTART:20250101T000000
END:STANDARD
END:VTIMEZONE
BEGIN:VEVENT
DTSTART;TZID=UTC:20260321T053000
DTEND;TZID=UTC:20260321T140000
DTSTAMP:20260420T135349
CREATED:20220126T174910Z
LAST-MODIFIED:20251219T112029Z
UID:26006-1774071000-1774101600@www.asv-emsdetten.de
SUMMARY:Jugendgruppe\, 1. Gemeinschaftsangeln - Forellenangeln
DESCRIPTION:Treffen um 05:30 Uhr am Vereinsheim.\nDer Eigenanteil für die Teilnahme an dieser Veranstaltung beträgt 10\,- € pro Person.
URL:https://www.asv-emsdetten.de/event/jugendgruppe-1-gemeinschaftsangeln-forellenangeln-am-cajo-teich/
LOCATION:Vereinsheim Angelsportverein Emsdetten e.V.\, Veltrup 22\, Emsdetten\, 48282\, Deutschland
CATEGORIES:Jugend
END:VEVENT
END:VCALENDAR